Package: RGraph2js Version: 1.39.0 Command: /home/biocbuild/bbs-3.23-bioc/R/bin/R CMD build --keep-empty-dirs --no-resave-data RGraph2js StartedAt: 2025-11-18 20:27:20 -0500 (Tue, 18 Nov 2025) EndedAt: 2025-11-18 20:27:30 -0500 (Tue, 18 Nov 2025) EllapsedTime: 10.0 seconds RetCode: 0 Status: OK PackageFile: RGraph2js_1.39.0.tar.gz PackageFileSize: 2.344 MiB