Package: RGraph2js Version: 1.37.0 Command: /home/biocbuild/bbs-3.22-bioc/R/bin/R CMD build --keep-empty-dirs --no-resave-data --md5 RGraph2js StartedAt: 2025-07-22 21:41:55 -0400 (Tue, 22 Jul 2025) EndedAt: 2025-07-22 21:42:05 -0400 (Tue, 22 Jul 2025) EllapsedTime: 10.0 seconds RetCode: 0 Status: OK PackageFile: RGraph2js_1.37.0.tar.gz PackageFileSize: 2.344 MiB