Package: RGraph2js Version: 1.37.0 Command: /home/biocbuild/bbs-3.22-bioc/R/bin/R CMD INSTALL RGraph2js StartedAt: 2025-07-22 18:03:47 -0400 (Tue, 22 Jul 2025) EndedAt: 2025-07-22 18:03:50 -0400 (Tue, 22 Jul 2025) EllapsedTime: 3.1 seconds RetCode: 0 Status: OK