Package: RNAmodR.RiboMethSeq Version: 1.25.0 Command: /home/biocbuild/bbs-3.23-bioc/R/bin/R CMD INSTALL RNAmodR.RiboMethSeq StartedAt: 2025-11-14 15:48:56 -0500 (Fri, 14 Nov 2025) EndedAt: 2025-11-14 15:49:54 -0500 (Fri, 14 Nov 2025) EllapsedTime: 57.3 seconds RetCode: 0 Status: OK