Package: RProtoBufLib Version: 2.21.0 Command: /home/biocbuild/bbs-3.22-bioc/R/bin/R CMD INSTALL RProtoBufLib StartedAt: 2025-10-24 15:13:15 -0400 (Fri, 24 Oct 2025) EndedAt: 2025-10-24 15:18:12 -0400 (Fri, 24 Oct 2025) EllapsedTime: 297.6 seconds RetCode: 0 Status: OK