Package: RTCA Version: 1.61.0 Command: /home/biocbuild/bbs-3.22-bioc/R/bin/R CMD build --keep-empty-dirs --no-resave-data --md5 RTCA StartedAt: 2025-10-07 19:48:09 -0400 (Tue, 07 Oct 2025) EndedAt: 2025-10-07 19:48:20 -0400 (Tue, 07 Oct 2025) EllapsedTime: 11.0 seconds RetCode: 0 Status: OK PackageFile: RTCA_1.61.0.tar.gz PackageFileSize: 337.9 KiB