Package: RTCA Version: 1.61.0 Command: /home/biocbuild/bbs-3.22-bioc/R/bin/R CMD INSTALL RTCA StartedAt: 2025-10-07 15:11:34 -0400 (Tue, 07 Oct 2025) EndedAt: 2025-10-07 15:11:38 -0400 (Tue, 07 Oct 2025) EllapsedTime: 4.2 seconds RetCode: 0 Status: OK