Package: RTCGA Version: 1.39.0 Command: /home/biocbuild/bbs-3.22-bioc/R/bin/R CMD INSTALL RTCGA StartedAt: 2025-10-06 15:10:46 -0400 (Mon, 06 Oct 2025) EndedAt: 2025-10-06 15:10:58 -0400 (Mon, 06 Oct 2025) EllapsedTime: 12.6 seconds RetCode: 0 Status: OK