Package: RTCGAToolbox Version: 2.41.0 Command: rm -rf RTCGAToolbox.buildbin-libdir && mkdir RTCGAToolbox.buildbin-libdir && /Users/biocbuild/BBS/utils/build-universal.sh RTCGAToolbox_2.41.0.tar.gz /Library/Frameworks/R.framework/Resources/bin/R RTCGAToolbox.buildbin-libdir StartedAt: 2025-11-24 23:57:35 -0500 (Mon, 24 Nov 2025) EndedAt: 2025-11-24 23:57:47 -0500 (Mon, 24 Nov 2025) EllapsedTime: 12.2 seconds RetCode: 0 Status: OK PackageFile: RTCGAToolbox_2.41.0.tgz PackageFileSize: 632.6 KiB