Package: RTCGAToolbox Version: 2.41.0 Command: /Library/Frameworks/R.framework/Resources/bin/R CMD build --keep-empty-dirs --no-resave-data RTCGAToolbox StartedAt: 2025-11-25 17:30:18 -0500 (Tue, 25 Nov 2025) EndedAt: 2025-11-25 17:30:38 -0500 (Tue, 25 Nov 2025) EllapsedTime: 19.2 seconds RetCode: 0 Status: OK PackageFile: RTCGAToolbox_2.41.0.tar.gz PackageFileSize: 2.33 MiB