Package: RTCGAToolbox Version: 2.41.0 Command: /Library/Frameworks/R.framework/Resources/bin/R CMD INSTALL RTCGAToolbox StartedAt: 2025-11-24 15:22:39 -0500 (Mon, 24 Nov 2025) EndedAt: 2025-11-24 15:22:49 -0500 (Mon, 24 Nov 2025) EllapsedTime: 10.5 seconds RetCode: 0 Status: OK