Package: RUVnormalize Version: 1.43.0 Command: /home/biocbuild/bbs-3.22-bioc/R/bin/R CMD INSTALL RUVnormalize StartedAt: 2025-10-08 16:13:05 -0400 (Wed, 08 Oct 2025) EndedAt: 2025-10-08 16:13:08 -0400 (Wed, 08 Oct 2025) EllapsedTime: 3.0 seconds RetCode: 0 Status: OK