Package: RcisTarget Version: 1.30.0 Command: /home/biocbuild/bbs-3.22-bioc/R/bin/R CMD build --keep-empty-dirs --no-resave-data --md5 RcisTarget StartedAt: 2025-10-30 01:57:22 -0400 (Thu, 30 Oct 2025) EndedAt: 2025-10-30 01:58:43 -0400 (Thu, 30 Oct 2025) EllapsedTime: 81.1 seconds RetCode: 0 Status: OK PackageFile: RcisTarget_1.30.0.tar.gz PackageFileSize: 12.8 MiB