Package: RcisTarget Version: 1.29.0 Command: /home/biocbuild/bbs-3.22-bioc/R/bin/R CMD INSTALL RcisTarget StartedAt: 2025-10-28 15:32:18 -0400 (Tue, 28 Oct 2025) EndedAt: 2025-10-28 15:32:59 -0400 (Tue, 28 Oct 2025) EllapsedTime: 40.6 seconds RetCode: 0 Status: OK