Package: ReactomeContentService4R Version: 1.15.1 Command: /home/biocbuild/bbs-3.22-bioc/R/bin/R CMD build --keep-empty-dirs --no-resave-data --md5 ReactomeContentService4R StartedAt: 2025-04-08 18:54:41 -0400 (Tue, 08 Apr 2025) EndedAt: 2025-04-08 18:55:22 -0400 (Tue, 08 Apr 2025) EllapsedTime: 41.1 seconds RetCode: 0 Status: OK PackageFile: ReactomeContentService4R_1.15.1.tar.gz PackageFileSize: 2.283 MiB