Package: ReactomeGSA Version: 1.25.0 Command: /home/biocbuild/bbs-3.23-bioc/R/bin/R CMD build --keep-empty-dirs --no-resave-data ReactomeGSA StartedAt: 2025-11-06 19:26:51 -0500 (Thu, 06 Nov 2025) EndedAt: 2025-11-06 19:33:32 -0500 (Thu, 06 Nov 2025) EllapsedTime: 401.5 seconds RetCode: 0 Status: OK PackageFile: ReactomeGSA_1.25.0.tar.gz PackageFileSize: 375.3 KiB