Package: ReactomeGSA Version: 1.25.0 Command: /home/biocbuild/bbs-3.23-bioc/R/bin/R CMD INSTALL ReactomeGSA StartedAt: 2025-11-06 15:52:33 -0500 (Thu, 06 Nov 2025) EndedAt: 2025-11-06 15:52:41 -0500 (Thu, 06 Nov 2025) EllapsedTime: 8.4 seconds RetCode: 0 Status: OK