Package: ReactomeGSA Version: 1.23.0 Command: /home/biocbuild/bbs-3.22-bioc/R/bin/R CMD build --keep-empty-dirs --no-resave-data --md5 ReactomeGSA StartedAt: 2025-07-17 18:46:47 -0400 (Thu, 17 Jul 2025) EndedAt: 2025-07-17 18:51:19 -0400 (Thu, 17 Jul 2025) EllapsedTime: 272.3 seconds RetCode: 0 Status: OK PackageFile: ReactomeGSA_1.23.0.tar.gz PackageFileSize: 377.5 KiB