Package: ReactomeGSA Version: 1.23.0 Command: /home/biocbuild/bbs-3.22-bioc/R/bin/R CMD INSTALL ReactomeGSA StartedAt: 2025-07-17 15:53:09 -0400 (Thu, 17 Jul 2025) EndedAt: 2025-07-17 15:53:18 -0400 (Thu, 17 Jul 2025) EllapsedTime: 8.3 seconds RetCode: 0 Status: OK