Package: RepViz Version: 1.25.0 Command: /home/biocbuild/bbs-3.22-bioc/R/bin/R CMD INSTALL RepViz StartedAt: 2025-10-10 15:39:15 -0400 (Fri, 10 Oct 2025) EndedAt: 2025-10-10 15:39:31 -0400 (Fri, 10 Oct 2025) EllapsedTime: 15.6 seconds RetCode: 0 Status: OK