Package: ReportingTools Version: 2.49.0 Command: /home/biocbuild/bbs-3.22-bioc/R/bin/R CMD INSTALL ReportingTools StartedAt: 2025-10-10 15:58:26 -0400 (Fri, 10 Oct 2025) EndedAt: 2025-10-10 15:59:27 -0400 (Fri, 10 Oct 2025) EllapsedTime: 61.0 seconds RetCode: 0 Status: OK