Package: ResidualMatrix Version: 1.19.0 Command: /home/biocbuild/bbs-3.22-bioc/R/bin/R CMD INSTALL ResidualMatrix StartedAt: 2025-10-16 16:15:04 -0400 (Thu, 16 Oct 2025) EndedAt: 2025-10-16 16:15:23 -0400 (Thu, 16 Oct 2025) EllapsedTime: 19.4 seconds RetCode: 0 Status: OK