Package: Rgraphviz Version: 2.53.0 Command: /home/biocbuild/bbs-3.22-bioc/R/bin/R CMD build --keep-empty-dirs --no-resave-data --md5 Rgraphviz StartedAt: 2025-10-05 19:40:47 -0400 (Sun, 05 Oct 2025) EndedAt: 2025-10-05 19:42:17 -0400 (Sun, 05 Oct 2025) EllapsedTime: 90.1 seconds RetCode: 0 Status: OK PackageFile: Rgraphviz_2.53.0.tar.gz PackageFileSize: 7.33 MiB