Package: Rgraphviz Version: 2.53.0 Command: /home/biocbuild/bbs-3.22-bioc/R/bin/R CMD INSTALL Rgraphviz StartedAt: 2025-10-05 15:12:45 -0400 (Sun, 05 Oct 2025) EndedAt: 2025-10-05 15:14:20 -0400 (Sun, 05 Oct 2025) EllapsedTime: 95.4 seconds RetCode: 0 Status: OK