Package: Rhdf5lib Version: 1.33.0 Command: /Library/Frameworks/R.framework/Resources/bin/R CMD INSTALL Rhdf5lib StartedAt: 2025-11-19 15:02:56 -0500 (Wed, 19 Nov 2025) EndedAt: 2025-11-19 15:04:39 -0500 (Wed, 19 Nov 2025) EllapsedTime: 103.8 seconds RetCode: 0 Status: OK