Package: Rigraphlib Version: 1.3.1 Command: rm -rf Rigraphlib.buildbin-libdir && mkdir Rigraphlib.buildbin-libdir && /Users/biocbuild/BBS/utils/build-universal.sh Rigraphlib_1.3.1.tar.gz /Library/Frameworks/R.framework/Resources/bin/R Rigraphlib.buildbin-libdir StartedAt: 2025-11-18 23:56:18 -0500 (Tue, 18 Nov 2025) EndedAt: 2025-11-18 23:58:25 -0500 (Tue, 18 Nov 2025) EllapsedTime: 127.5 seconds RetCode: 0 Status: OK PackageFile: Rigraphlib_1.3.1.tgz PackageFileSize: 12.99 MiB