Package: Rvisdiff Version: 1.9.0 Command: /home/biocbuild/bbs-3.23-bioc/R/bin/R CMD build --keep-empty-dirs --no-resave-data Rvisdiff StartedAt: 2025-11-14 19:45:56 -0500 (Fri, 14 Nov 2025) EndedAt: 2025-11-14 19:46:58 -0500 (Fri, 14 Nov 2025) EllapsedTime: 62.1 seconds RetCode: 0 Status: OK PackageFile: Rvisdiff_1.9.0.tar.gz PackageFileSize: 1.315 MiB