Package: SCArray.sat Version: 1.11.0 Command: /home/biocbuild/bbs-3.23-bioc/R/bin/R CMD build --keep-empty-dirs --no-resave-data SCArray.sat StartedAt: 2025-11-06 19:41:54 -0500 (Thu, 06 Nov 2025) EndedAt: 2025-11-06 19:43:17 -0500 (Thu, 06 Nov 2025) EllapsedTime: 83.1 seconds RetCode: 1 Status: ERROR PackageFile: None PackageFileSize: NA