Package: SCArray.sat Version: 1.11.0 Command: /home/biocbuild/bbs-3.23-bioc/R/bin/R CMD INSTALL SCArray.sat StartedAt: 2025-11-06 15:53:04 -0500 (Thu, 06 Nov 2025) EndedAt: 2025-11-06 15:53:46 -0500 (Thu, 06 Nov 2025) EllapsedTime: 41.7 seconds RetCode: 0 Status: OK