Package: SCArray Version: 1.17.0 Command: rm -rf SCArray.buildbin-libdir && mkdir SCArray.buildbin-libdir && /Users/biocbuild/BBS/utils/build-universal.sh SCArray_1.17.0.tar.gz /Library/Frameworks/R.framework/Resources/bin/R SCArray.buildbin-libdir StartedAt: 2025-10-11 02:51:36 -0400 (Sat, 11 Oct 2025) EndedAt: 2025-10-11 02:52:39 -0400 (Sat, 11 Oct 2025) EllapsedTime: 63.1 seconds RetCode: 0 Status: OK PackageFile: SCArray_1.17.0.tgz PackageFileSize: 2.401 MiB