Package: SCArray Version: 1.17.0 Command: /Library/Frameworks/R.framework/Resources/bin/R CMD build --keep-empty-dirs --no-resave-data SCArray StartedAt: 2025-10-10 19:02:19 -0400 (Fri, 10 Oct 2025) EndedAt: 2025-10-10 19:04:15 -0400 (Fri, 10 Oct 2025) EllapsedTime: 115.8 seconds RetCode: 0 Status: OK PackageFile: SCArray_1.17.0.tar.gz PackageFileSize: 1.359 MiB