Package: SCArray Version: 1.17.0 Command: /Library/Frameworks/R.framework/Resources/bin/R CMD INSTALL SCArray StartedAt: 2025-10-12 15:48:25 -0400 (Sun, 12 Oct 2025) EndedAt: 2025-10-12 15:49:21 -0400 (Sun, 12 Oct 2025) EllapsedTime: 56.9 seconds RetCode: 0 Status: OK