Package: SCArray Version: 1.17.0 Command: /home/biocbuild/bbs-3.22-bioc/R/bin/R CMD build --keep-empty-dirs --no-resave-data --md5 SCArray StartedAt: 2025-07-11 18:56:11 -0400 (Fri, 11 Jul 2025) EndedAt: 2025-07-11 18:57:29 -0400 (Fri, 11 Jul 2025) EllapsedTime: 78.1 seconds RetCode: 0 Status: OK PackageFile: SCArray_1.17.0.tar.gz PackageFileSize: 1.341 MiB