Package: SCArray Version: 1.17.0 Command: /home/biocbuild/bbs-3.22-bioc/R/bin/R CMD INSTALL SCArray StartedAt: 2025-07-11 15:49:23 -0400 (Fri, 11 Jul 2025) EndedAt: 2025-07-11 15:50:03 -0400 (Fri, 11 Jul 2025) EllapsedTime: 40.0 seconds RetCode: 0 Status: OK