Package: SIM Version: 1.79.0 Command: /home/biocbuild/bbs-3.22-bioc/R/bin/R CMD build --keep-empty-dirs --no-resave-data --md5 SIM StartedAt: 2025-10-28 20:04:26 -0400 (Tue, 28 Oct 2025) EndedAt: 2025-10-28 20:04:59 -0400 (Tue, 28 Oct 2025) EllapsedTime: 33.0 seconds RetCode: 0 Status: OK PackageFile: SIM_1.79.0.tar.gz PackageFileSize: 462.9 KiB