Package: SIM Version: 1.79.0 Command: /home/biocbuild/bbs-3.22-bioc/R/bin/R CMD INSTALL SIM StartedAt: 2025-10-28 15:28:48 -0400 (Tue, 28 Oct 2025) EndedAt: 2025-10-28 15:29:05 -0400 (Tue, 28 Oct 2025) EllapsedTime: 17.6 seconds RetCode: 0 Status: OK