Package: SIMAT Version: 1.41.0 Command: /home/biocbuild/bbs-3.22-bioc/R/bin/R CMD INSTALL SIMAT StartedAt: 2025-10-06 15:21:58 -0400 (Mon, 06 Oct 2025) EndedAt: 2025-10-06 15:22:07 -0400 (Mon, 06 Oct 2025) EllapsedTime: 9.0 seconds RetCode: 0 Status: OK