Package: SQLDataFrame Version: 1.25.0 Command: /home/biocbuild/bbs-3.23-bioc/R/bin/R CMD INSTALL SQLDataFrame StartedAt: 2025-11-02 15:21:58 -0500 (Sun, 02 Nov 2025) EndedAt: 2025-11-02 15:22:15 -0500 (Sun, 02 Nov 2025) EllapsedTime: 17.6 seconds RetCode: 0 Status: OK