Package: SQLDataFrame Version: 1.23.0 Command: /home/biocbuild/bbs-3.22-bioc/R/bin/R CMD check --install=check:SQLDataFrame.install-out.txt --library=/home/biocbuild/bbs-3.22-bioc/R/site-library --timings SQLDataFrame_1.23.0.tar.gz StartedAt: 2025-07-12 02:54:34 -0400 (Sat, 12 Jul 2025) EndedAt: 2025-07-12 02:57:07 -0400 (Sat, 12 Jul 2025) EllapsedTime: 153.1 seconds RetCode: 0 Status: WARNINGS CheckDir: SQLDataFrame.Rcheck Warnings: 2