Package: ScaledMatrix Version: 1.17.0 Command: /home/biocbuild/bbs-3.22-bioc/R/bin/R CMD INSTALL ScaledMatrix StartedAt: 2025-10-10 16:03:22 -0400 (Fri, 10 Oct 2025) EndedAt: 2025-10-10 16:03:40 -0400 (Fri, 10 Oct 2025) EllapsedTime: 18.5 seconds RetCode: 0 Status: OK