Package: SemDist Version: 1.43.0 Command: /home/biocbuild/bbs-3.22-bioc/R/bin/R CMD build --keep-empty-dirs --no-resave-data --md5 SemDist StartedAt: 2025-10-07 20:03:39 -0400 (Tue, 07 Oct 2025) EndedAt: 2025-10-07 20:04:12 -0400 (Tue, 07 Oct 2025) EllapsedTime: 33.0 seconds RetCode: 0 Status: OK PackageFile: SemDist_1.43.0.tar.gz PackageFileSize: 1.958 MiB