Package: SemDist Version: 1.43.0 Command: /home/biocbuild/bbs-3.22-bioc/R/bin/R CMD INSTALL SemDist StartedAt: 2025-10-07 15:46:17 -0400 (Tue, 07 Oct 2025) EndedAt: 2025-10-07 15:46:31 -0400 (Tue, 07 Oct 2025) EllapsedTime: 13.5 seconds RetCode: 0 Status: OK