Package: SeqArray Version: 1.49.9 Command: rm -rf SeqArray.buildbin-libdir && mkdir SeqArray.buildbin-libdir && /Users/biocbuild/BBS/utils/build-universal.sh SeqArray_1.49.9.tar.gz /Library/Frameworks/R.framework/Resources/bin/R SeqArray.buildbin-libdir StartedAt: 2025-10-26 22:48:10 -0400 (Sun, 26 Oct 2025) EndedAt: 2025-10-26 22:48:24 -0400 (Sun, 26 Oct 2025) EllapsedTime: 14.3 seconds RetCode: 0 Status: OK PackageFile: SeqArray_1.49.9.tgz PackageFileSize: 4.138 MiB