Package: SeqArray Version: 1.51.0 Command: /Library/Frameworks/R.framework/Resources/bin/R CMD build --keep-empty-dirs --no-resave-data SeqArray StartedAt: 2025-11-19 18:42:33 -0500 (Wed, 19 Nov 2025) EndedAt: 2025-11-19 18:44:17 -0500 (Wed, 19 Nov 2025) EllapsedTime: 104.0 seconds RetCode: 1 Status: ERROR PackageFile: None PackageFileSize: NA