Package: SeqArray Version: 1.51.0 Command: /home/biocbuild/bbs-3.23-bioc/R/bin/R CMD INSTALL SeqArray StartedAt: 2025-11-19 15:20:18 -0500 (Wed, 19 Nov 2025) EndedAt: 2025-11-19 15:20:59 -0500 (Wed, 19 Nov 2025) EllapsedTime: 40.7 seconds RetCode: 0 Status: OK