Package: SharedObject Version: 1.25.0 Command: /home/biocbuild/bbs-3.23-bioc/R/bin/R CMD INSTALL SharedObject StartedAt: 2025-11-16 15:12:31 -0500 (Sun, 16 Nov 2025) EndedAt: 2025-11-16 15:12:58 -0500 (Sun, 16 Nov 2025) EllapsedTime: 27.0 seconds RetCode: 0 Status: OK