Package: SharedObject Version: 1.23.0 Command: /home/biocbuild/bbs-3.22-bioc/R/bin/R CMD INSTALL SharedObject StartedAt: 2025-07-21 15:17:51 -0400 (Mon, 21 Jul 2025) EndedAt: 2025-07-21 15:18:18 -0400 (Mon, 21 Jul 2025) EllapsedTime: 26.8 seconds RetCode: 0 Status: OK