Package: SparseArray Version: 1.9.1 Command: /Library/Frameworks/R.framework/Resources/bin/R CMD INSTALL SparseArray StartedAt: 2025-07-25 15:08:18 -0400 (Fri, 25 Jul 2025) EndedAt: 2025-07-25 15:08:31 -0400 (Fri, 25 Jul 2025) EllapsedTime: 12.7 seconds RetCode: 0 Status: OK