Package: SparseArray Version: 1.11.1 Command: /home/biocbuild/bbs-3.23-bioc/R/bin/R CMD build --keep-empty-dirs --no-resave-data SparseArray StartedAt: 2025-11-05 20:12:32 -0500 (Wed, 05 Nov 2025) EndedAt: 2025-11-05 20:13:27 -0500 (Wed, 05 Nov 2025) EllapsedTime: 55.0 seconds RetCode: 0 Status: OK PackageFile: SparseArray_1.11.1.tar.gz PackageFileSize: 460.2 KiB