Package: SparseArray Version: 1.11.1 Command: /home/biocbuild/bbs-3.23-bioc/R/bin/R CMD INSTALL SparseArray StartedAt: 2025-11-05 15:21:23 -0500 (Wed, 05 Nov 2025) EndedAt: 2025-11-05 15:21:56 -0500 (Wed, 05 Nov 2025) EllapsedTime: 33.2 seconds RetCode: 0 Status: OK